BEGIN:VCALENDAR
VERSION:2.0
PRODID:-//Washington County Virginia - ECPv6.15.20//NONSGML v1.0//EN
CALSCALE:GREGORIAN
METHOD:PUBLISH
X-WR-CALNAME:Washington County Virginia
X-ORIGINAL-URL:https://www.washcova.com
X-WR-CALDESC:Events for Washington County Virginia
REFRESH-INTERVAL;VALUE=DURATION:PT1H
X-Robots-Tag:noindex
X-PUBLISHED-TTL:PT1H
BEGIN:VTIMEZONE
TZID:America/Detroit
BEGIN:DAYLIGHT
TZOFFSETFROM:-0500
TZOFFSETTO:-0400
TZNAME:EDT
DTSTART:20190310T070000
END:DAYLIGHT
BEGIN:STANDARD
TZOFFSETFROM:-0400
TZOFFSETTO:-0500
TZNAME:EST
DTSTART:20191103T060000
END:STANDARD
BEGIN:DAYLIGHT
TZOFFSETFROM:-0500
TZOFFSETTO:-0400
TZNAME:EDT
DTSTART:20200308T070000
END:DAYLIGHT
BEGIN:STANDARD
TZOFFSETFROM:-0400
TZOFFSETTO:-0500
TZNAME:EST
DTSTART:20201101T060000
END:STANDARD
BEGIN:DAYLIGHT
TZOFFSETFROM:-0500
TZOFFSETTO:-0400
TZNAME:EDT
DTSTART:20210314T070000
END:DAYLIGHT
BEGIN:STANDARD
TZOFFSETFROM:-0400
TZOFFSETTO:-0500
TZNAME:EST
DTSTART:20211107T060000
END:STANDARD
END:VTIMEZONE
BEGIN:VEVENT
DTSTART;TZID=America/Detroit:20200922T173000
DTEND;TZID=America/Detroit:20200922T183000
DTSTAMP:20260423T151155
CREATED:20200211T193628Z
LAST-MODIFIED:20200211T193628Z
UID:3584-1600795800-1600799400@www.washcova.com
SUMMARY:Agriculture Committee Meeting
DESCRIPTION:
URL:https://www.washcova.com/event/agriculture-committee-meeting-3/
LOCATION:Executive Conference Room\, 1 Government Center Place\, Abingdon\, VA\, 24210\, United States
END:VEVENT
BEGIN:VEVENT
DTSTART;TZID=America/Detroit:20200923T150000
DTEND;TZID=America/Detroit:20200923T160000
DTSTAMP:20260423T151155
CREATED:20191021T173814Z
LAST-MODIFIED:20200921T202308Z
UID:2811-1600873200-1600876800@www.washcova.com
SUMMARY:Cancelled: Facilities Committee
DESCRIPTION:
URL:https://www.washcova.com/event/facilities-committee-2020-09-23/
LOCATION:VA
CATEGORIES:Committee Meetings
END:VEVENT
BEGIN:VEVENT
DTSTART;TZID=America/Detroit:20200924T180000
DTEND;TZID=America/Detroit:20200924T200000
DTSTAMP:20260423T151155
CREATED:20190623T133957Z
LAST-MODIFIED:20200909T144805Z
UID:2144-1600970400-1600977600@www.washcova.com
SUMMARY:Park Authority Meeting
DESCRIPTION:
URL:https://www.washcova.com/event/park-authority-meeting-2020-09-24/
LOCATION:Washington County Park\, 19482 County Park Road\, Abingdon\, 24211
CATEGORIES:Committee Meetings
ATTACH;FMTTYPE=image/webp:https://www.washcova.com/wp-content/uploads/2019/06/Executive-Board-Room1.webp
END:VEVENT
END:VCALENDAR