BEGIN:VCALENDAR
VERSION:2.0
PRODID:-//Washington County Virginia - ECPv6.15.20//NONSGML v1.0//EN
CALSCALE:GREGORIAN
METHOD:PUBLISH
X-WR-CALNAME:Washington County Virginia
X-ORIGINAL-URL:https://www.washcova.com
X-WR-CALDESC:Events for Washington County Virginia
REFRESH-INTERVAL;VALUE=DURATION:PT1H
X-Robots-Tag:noindex
X-PUBLISHED-TTL:PT1H
BEGIN:VTIMEZONE
TZID:America/New_York
BEGIN:DAYLIGHT
TZOFFSETFROM:-0500
TZOFFSETTO:-0400
TZNAME:EDT
DTSTART:20230312T070000
END:DAYLIGHT
BEGIN:STANDARD
TZOFFSETFROM:-0400
TZOFFSETTO:-0500
TZNAME:EST
DTSTART:20231105T060000
END:STANDARD
BEGIN:DAYLIGHT
TZOFFSETFROM:-0500
TZOFFSETTO:-0400
TZNAME:EDT
DTSTART:20240310T070000
END:DAYLIGHT
BEGIN:STANDARD
TZOFFSETFROM:-0400
TZOFFSETTO:-0500
TZNAME:EST
DTSTART:20241103T060000
END:STANDARD
BEGIN:DAYLIGHT
TZOFFSETFROM:-0500
TZOFFSETTO:-0400
TZNAME:EDT
DTSTART:20250309T070000
END:DAYLIGHT
BEGIN:STANDARD
TZOFFSETFROM:-0400
TZOFFSETTO:-0500
TZNAME:EST
DTSTART:20251102T060000
END:STANDARD
BEGIN:DAYLIGHT
TZOFFSETFROM:-0500
TZOFFSETTO:-0400
TZNAME:EDT
DTSTART:20260308T070000
END:DAYLIGHT
BEGIN:STANDARD
TZOFFSETFROM:-0400
TZOFFSETTO:-0500
TZNAME:EST
DTSTART:20261101T060000
END:STANDARD
END:VTIMEZONE
BEGIN:VTIMEZONE
TZID:America/Detroit
BEGIN:DAYLIGHT
TZOFFSETFROM:-0500
TZOFFSETTO:-0400
TZNAME:EDT
DTSTART:20240310T070000
END:DAYLIGHT
BEGIN:STANDARD
TZOFFSETFROM:-0400
TZOFFSETTO:-0500
TZNAME:EST
DTSTART:20241103T060000
END:STANDARD
BEGIN:DAYLIGHT
TZOFFSETFROM:-0500
TZOFFSETTO:-0400
TZNAME:EDT
DTSTART:20250309T070000
END:DAYLIGHT
BEGIN:STANDARD
TZOFFSETFROM:-0400
TZOFFSETTO:-0500
TZNAME:EST
DTSTART:20251102T060000
END:STANDARD
BEGIN:DAYLIGHT
TZOFFSETFROM:-0500
TZOFFSETTO:-0400
TZNAME:EDT
DTSTART:20260308T070000
END:DAYLIGHT
BEGIN:STANDARD
TZOFFSETFROM:-0400
TZOFFSETTO:-0500
TZNAME:EST
DTSTART:20261101T060000
END:STANDARD
END:VTIMEZONE
BEGIN:VEVENT
DTSTART;TZID=America/New_York:20241231T080000
DTEND;TZID=America/New_York:20250101T170000
DTSTAMP:20260425T062058
CREATED:20241023T133500Z
LAST-MODIFIED:20241023T133500Z
UID:43630-1735632000-1735750800@www.washcova.com
SUMMARY:New Year's Holiday
DESCRIPTION:County Administrative office will be closed in observance of the New Year’s Holiday.
URL:https://www.washcova.com/event/new-years-holiday-3/
LOCATION:VA
CATEGORIES:Holiday
ATTACH;FMTTYPE=image/webp:https://www.washcova.com/wp-content/uploads/2019/06/County-Logo1-e1542230947537.webp
END:VEVENT
BEGIN:VEVENT
DTSTART;VALUE=DATE:20250101
DTEND;VALUE=DATE:20250102
DTSTAMP:20260425T062058
CREATED:20250115T161723Z
LAST-MODIFIED:20250115T161723Z
UID:43973-1735689600-1735775999@www.washcova.com
SUMMARY:New Year's Day Holiday
DESCRIPTION:County Administrative Office will be Closed.
URL:https://www.washcova.com/event/new-years-day-holiday-2/
LOCATION:VA
CATEGORIES:Holiday
ATTACH;FMTTYPE=image/webp:https://www.washcova.com/wp-content/uploads/2020/04/cropped-washington-county-logo_10.webp
END:VEVENT
BEGIN:VEVENT
DTSTART;TZID=America/New_York:20250114T183000
DTEND;TZID=America/New_York:20250114T213000
DTSTAMP:20260425T062058
CREATED:20250115T155416Z
LAST-MODIFIED:20250115T155416Z
UID:43957-1736879400-1736890200@www.washcova.com
SUMMARY:Board of Supervisors Regular Meeting
DESCRIPTION:
URL:https://www.washcova.com/event/board-of-supervisors-regular-meeting-7/2025-01-14/
LOCATION:Board Room Auditorium\, 1 Government Center Place\, Suite A\, Abingdon\, VA\, 24210\, United States
CATEGORIES:Board of Supervisors Regular Meeting
ATTACH;FMTTYPE=image/webp:https://www.washcova.com/wp-content/uploads/2019/05/Board-Room-1000x500.webp
END:VEVENT
BEGIN:VEVENT
DTSTART;VALUE=DATE:20250120
DTEND;VALUE=DATE:20250121
DTSTAMP:20260425T062058
CREATED:20250115T163017Z
LAST-MODIFIED:20250115T163017Z
UID:43976-1737331200-1737417599@www.washcova.com
SUMMARY:Martin Luther King\, Jr. Day
DESCRIPTION:County Administrative Office will be Closed.
URL:https://www.washcova.com/event/martin-luther-king-jr-day-2/
LOCATION:VA
CATEGORIES:Holiday
ATTACH;FMTTYPE=image/webp:https://www.washcova.com/wp-content/uploads/2020/04/cropped-washington-county-logo_10.webp
END:VEVENT
BEGIN:VEVENT
DTSTART;TZID=America/Detroit:20250120T183000
DTEND;TZID=America/Detroit:20250120T200000
DTSTAMP:20260425T062058
CREATED:20190623T133957Z
LAST-MODIFIED:20190623T133957Z
UID:45016-1737397800-1737403200@www.washcova.com
SUMMARY:Park Authority Meeting
DESCRIPTION:
URL:https://www.washcova.com/event/park-authority-meeting/2025-01-20/
LOCATION:Meeting Room #2\, 1 Government Center Place\, Abingdon\, VA\, 24210\, United States
CATEGORIES:Committee Meetings
ATTACH;FMTTYPE=image/webp:https://www.washcova.com/wp-content/uploads/2019/06/Executive-Board-Room1.webp
END:VEVENT
BEGIN:VEVENT
DTSTART;TZID=America/New_York:20250128T183000
DTEND;TZID=America/New_York:20250128T213000
DTSTAMP:20260425T062058
CREATED:20250115T155054Z
LAST-MODIFIED:20250115T155054Z
UID:43941-1738089000-1738099800@www.washcova.com
SUMMARY:Board of Supervisors Regular Meeting
DESCRIPTION:
URL:https://www.washcova.com/event/board-of-supervisors-regular-meeting-6/2025-01-28/
LOCATION:Board Room Auditorium\, 1 Government Center Place\, Suite A\, Abingdon\, VA\, 24210\, United States
CATEGORIES:Board of Supervisors Regular Meeting
ATTACH;FMTTYPE=image/webp:https://www.washcova.com/wp-content/uploads/2019/05/Board-Room-1000x500.webp
END:VEVENT
END:VCALENDAR