BEGIN:VCALENDAR
VERSION:2.0
PRODID:-//Washington County Virginia - ECPv6.15.20//NONSGML v1.0//EN
CALSCALE:GREGORIAN
METHOD:PUBLISH
X-ORIGINAL-URL:https://www.washcova.com
X-WR-CALDESC:Events for Washington County Virginia
REFRESH-INTERVAL;VALUE=DURATION:PT1H
X-Robots-Tag:noindex
X-PUBLISHED-TTL:PT1H
BEGIN:VTIMEZONE
TZID:America/Detroit
BEGIN:DAYLIGHT
TZOFFSETFROM:-0500
TZOFFSETTO:-0400
TZNAME:EDT
DTSTART:20220313T070000
END:DAYLIGHT
BEGIN:STANDARD
TZOFFSETFROM:-0400
TZOFFSETTO:-0500
TZNAME:EST
DTSTART:20221106T060000
END:STANDARD
BEGIN:DAYLIGHT
TZOFFSETFROM:-0500
TZOFFSETTO:-0400
TZNAME:EDT
DTSTART:20230312T070000
END:DAYLIGHT
BEGIN:STANDARD
TZOFFSETFROM:-0400
TZOFFSETTO:-0500
TZNAME:EST
DTSTART:20231105T060000
END:STANDARD
BEGIN:DAYLIGHT
TZOFFSETFROM:-0500
TZOFFSETTO:-0400
TZNAME:EDT
DTSTART:20240310T070000
END:DAYLIGHT
BEGIN:STANDARD
TZOFFSETFROM:-0400
TZOFFSETTO:-0500
TZNAME:EST
DTSTART:20241103T060000
END:STANDARD
END:VTIMEZONE
BEGIN:VEVENT
DTSTART;TZID=America/Detroit:20231024T190000
DTEND;TZID=America/Detroit:20231024T220000
DTSTAMP:20260420T083950
CREATED:20190620T192624Z
LAST-MODIFIED:20231024T130014Z
UID:16668-1698174000-1698184800@www.washcova.com
SUMMARY:Board of Supervisors Regular Meeting At 7 PM
DESCRIPTION:The October 24th Board of Supervisors meeting will begin at 7:00 pm instead of 6:30 pm as a Majority of the Washington County Board of Supervisors will attend the Funeral Services for Abingdon Fire Department Firefighter Cameron Craig at the Trigg Street Church of God.
URL:https://www.washcova.com/event/board-of-supervisors-regular-meeting-2-2023-10-24/
LOCATION:VA
CATEGORIES:Board of Supervisors Regular Meeting
ATTACH;FMTTYPE=image/webp:https://www.washcova.com/wp-content/uploads/2019/05/Board-Room-1000x500.webp
END:VEVENT
END:VCALENDAR